BEGIN:VCALENDAR
VERSION:2.0
PRODID:-// Livermore Valley Camera Club - ECPv6.15.16//NONSGML v1.0//EN
CALSCALE:GREGORIAN
METHOD:PUBLISH
X-WR-CALNAME: Livermore Valley Camera Club
X-ORIGINAL-URL:https://livermorevalleycameraclub.net
X-WR-CALDESC:Events for  Livermore Valley Camera Club
REFRESH-INTERVAL;VALUE=DURATION:PT1H
X-Robots-Tag:noindex
X-PUBLISHED-TTL:PT1H
BEGIN:VTIMEZONE
TZID:America/Los_Angeles
BEGIN:DAYLIGHT
TZOFFSETFROM:-0800
TZOFFSETTO:-0700
TZNAME:PDT
DTSTART:20240310T100000
END:DAYLIGHT
BEGIN:STANDARD
TZOFFSETFROM:-0700
TZOFFSETTO:-0800
TZNAME:PST
DTSTART:20241103T090000
END:STANDARD
BEGIN:DAYLIGHT
TZOFFSETFROM:-0800
TZOFFSETTO:-0700
TZNAME:PDT
DTSTART:20250309T100000
END:DAYLIGHT
BEGIN:STANDARD
TZOFFSETFROM:-0700
TZOFFSETTO:-0800
TZNAME:PST
DTSTART:20251102T090000
END:STANDARD
BEGIN:DAYLIGHT
TZOFFSETFROM:-0800
TZOFFSETTO:-0700
TZNAME:PDT
DTSTART:20260308T100000
END:DAYLIGHT
BEGIN:STANDARD
TZOFFSETFROM:-0700
TZOFFSETTO:-0800
TZNAME:PST
DTSTART:20261101T090000
END:STANDARD
END:VTIMEZONE
BEGIN:VEVENT
DTSTART;TZID=America/Los_Angeles:20250905T190000
DTEND;TZID=America/Los_Angeles:20250905T210000
DTSTAMP:20260423T094536
CREATED:20241225T215127Z
LAST-MODIFIED:20241226T005808Z
UID:1034-1757098800-1757106000@livermorevalleycameraclub.net
SUMMARY:Meeting - Monday\, September 5\, 2025
DESCRIPTION:This will be a virtual/physical hybrid meeting conducted on Zoom in addition to a physical meeting with print competitions. \nDigital competitions at this meeting will be:\nCreative Projected\nJournalism Projected \nPrint competitions at this meeting will be: \nNature Prints\nTravel Prints\nAlternative Division
URL:https://livermorevalleycameraclub.net/event/meeting-monday-september-5-2025/
LOCATION:WCB Building\, 5690 Sonoma Drive\, Pleasanton\, CA\, 94566\, United States
CATEGORIES:Competition,Meeting
END:VEVENT
BEGIN:VEVENT
DTSTART;TZID=America/Los_Angeles:20250915T190000
DTEND;TZID=America/Los_Angeles:20250915T210000
DTSTAMP:20260423T094536
CREATED:20241225T215142Z
LAST-MODIFIED:20241226T005828Z
UID:1035-1757962800-1757970000@livermorevalleycameraclub.net
SUMMARY:Meeting - Friday\, September 15\, 2025
DESCRIPTION:This will be a virtual/physical hybrid meeting conducted on Zoom in addition to a physical meeting with print competitions. \nDigital competitions at this meeting will be:\nPictorial Projected\nMonochrome Projected \nPrint competitions at this meeting will be: \nPictorial Prints\nMonochrome Prints
URL:https://livermorevalleycameraclub.net/event/meeting-friday-september-15-2025/
LOCATION:WCB Building\, 5690 Sonoma Drive\, Pleasanton\, CA\, 94566\, United States
CATEGORIES:Competition,Meeting
END:VEVENT
END:VCALENDAR