BEGIN:VCALENDAR
VERSION:2.0
PRODID:-// Livermore Valley Camera Club - ECPv6.15.16//NONSGML v1.0//EN
CALSCALE:GREGORIAN
METHOD:PUBLISH
X-WR-CALNAME: Livermore Valley Camera Club
X-ORIGINAL-URL:https://livermorevalleycameraclub.net
X-WR-CALDESC:Events for  Livermore Valley Camera Club
REFRESH-INTERVAL;VALUE=DURATION:PT1H
X-Robots-Tag:noindex
X-PUBLISHED-TTL:PT1H
BEGIN:VTIMEZONE
TZID:America/Los_Angeles
BEGIN:DAYLIGHT
TZOFFSETFROM:-0800
TZOFFSETTO:-0700
TZNAME:PDT
DTSTART:20220313T100000
END:DAYLIGHT
BEGIN:STANDARD
TZOFFSETFROM:-0700
TZOFFSETTO:-0800
TZNAME:PST
DTSTART:20221106T090000
END:STANDARD
BEGIN:DAYLIGHT
TZOFFSETFROM:-0800
TZOFFSETTO:-0700
TZNAME:PDT
DTSTART:20230312T100000
END:DAYLIGHT
BEGIN:STANDARD
TZOFFSETFROM:-0700
TZOFFSETTO:-0800
TZNAME:PST
DTSTART:20231105T090000
END:STANDARD
BEGIN:DAYLIGHT
TZOFFSETFROM:-0800
TZOFFSETTO:-0700
TZNAME:PDT
DTSTART:20240310T100000
END:DAYLIGHT
BEGIN:STANDARD
TZOFFSETFROM:-0700
TZOFFSETTO:-0800
TZNAME:PST
DTSTART:20241103T090000
END:STANDARD
BEGIN:DAYLIGHT
TZOFFSETFROM:-0800
TZOFFSETTO:-0700
TZNAME:PDT
DTSTART:20250309T100000
END:DAYLIGHT
BEGIN:STANDARD
TZOFFSETFROM:-0700
TZOFFSETTO:-0800
TZNAME:PST
DTSTART:20251102T090000
END:STANDARD
BEGIN:DAYLIGHT
TZOFFSETFROM:-0800
TZOFFSETTO:-0700
TZNAME:PDT
DTSTART:20260308T100000
END:DAYLIGHT
BEGIN:STANDARD
TZOFFSETFROM:-0700
TZOFFSETTO:-0800
TZNAME:PST
DTSTART:20261101T090000
END:STANDARD
END:VTIMEZONE
BEGIN:VEVENT
DTSTART;TZID=America/Los_Angeles:20230403T190000
DTEND;TZID=America/Los_Angeles:20230403T210000
DTSTAMP:20260419T120557
CREATED:20230112T205011Z
LAST-MODIFIED:20230112T205011Z
UID:894-1680548400-1680555600@livermorevalleycameraclub.net
SUMMARY:Meeting - Monday\, April 03\, 2023
DESCRIPTION:This will be a virtual/physical hybrid meeting conducted on Zoom in addition to a physical meeting with print competitions. \nDigital competitions at this meeting will be: \nNature Projected\nTravel Projected \nPrint competitions at this meeting will be: \nCreative Prints\nJournalism Prints
URL:https://livermorevalleycameraclub.net/event/meeting-monday-april-03-2023/
LOCATION:WCB Building\, 5690 Sonoma Drive\, Pleasanton\, CA\, 94566\, United States
CATEGORIES:Competition,Meeting
END:VEVENT
BEGIN:VEVENT
DTSTART;TZID=America/Los_Angeles:20230412T190000
DTEND;TZID=America/Los_Angeles:20230412T203000
DTSTAMP:20260419T120557
CREATED:20230405T222034Z
LAST-MODIFIED:20230406T230257Z
UID:920-1681326000-1681331400@livermorevalleycameraclub.net
SUMMARY:Movie Night: Evening with Moose Peterson
DESCRIPTION:We will give our brains a rest—and enjoy a touching movie that is full of Inspiration- Encouragement-Aviation- Nature- and Visual Storytelling— it will be an “Evening with Moose Peterson” \nMovie duration will be 1 hour\, with 30 minutes of discussion after.
URL:https://livermorevalleycameraclub.net/event/movie-night-evening-with-moose-peterson/
LOCATION:WCB Building\, 5690 Sonoma Drive\, Pleasanton\, CA\, 94566\, United States
CATEGORIES:Educational,Meeting
END:VEVENT
BEGIN:VEVENT
DTSTART;TZID=America/Los_Angeles:20230415T090000
DTEND;TZID=America/Los_Angeles:20230415T140000
DTSTAMP:20260419T120557
CREATED:20230411T163903Z
LAST-MODIFIED:20230411T163903Z
UID:939-1681549200-1681567200@livermorevalleycameraclub.net
SUMMARY:Elkhorn Slough Boat Safari
DESCRIPTION:Boat leaves 9:00 am         \nLVCC has chartered a boat at Moss Landing that will seat 13 photographers. It normally seats 26 but this way everyone has an outside seat. The cost is $55 per person for a 1 ½ to 2 hour excursion. Afterwards we can go to a local restaurant for lunch if desired. \nSOLD OUT.
URL:https://livermorevalleycameraclub.net/event/elkhorn-slough-boat-safari/
LOCATION:CA
CATEGORIES:Field Trip
END:VEVENT
BEGIN:VEVENT
DTSTART;TZID=America/Los_Angeles:20230417T190000
DTEND;TZID=America/Los_Angeles:20230417T210000
DTSTAMP:20260419T120557
CREATED:20230112T205254Z
LAST-MODIFIED:20230112T205254Z
UID:896-1681758000-1681765200@livermorevalleycameraclub.net
SUMMARY:Meeting - Monday\, April 17\, 2023
DESCRIPTION:This will be a virtual/physical hybrid meeting conducted on Zoom in addition to a physical meeting with print competitions. \nDigital competitions at this meeting will be: \nPictorial Projected \nPrint competitions at this meeting will be: \nPictorial Prints\nMonochrome Prints
URL:https://livermorevalleycameraclub.net/event/meeting-monday-april-17-2023/
LOCATION:WCB Building\, 5690 Sonoma Drive\, Pleasanton\, CA\, 94566\, United States
CATEGORIES:Competition,Meeting
END:VEVENT
BEGIN:VEVENT
DTSTART;TZID=America/Los_Angeles:20230501T190000
DTEND;TZID=America/Los_Angeles:20230501T210000
DTSTAMP:20260419T120557
CREATED:20230112T205458Z
LAST-MODIFIED:20230112T205458Z
UID:898-1682967600-1682974800@livermorevalleycameraclub.net
SUMMARY:Meeting - Monday\, May 01\, 2023
DESCRIPTION:This will be a virtual/physical hybrid meeting conducted on Zoom in addition to a physical meeting with print competitions. \nDigital competitions at this meeting will be: \nCreative Projected\nJournalism Projected \nPrint competitions at this meeting will be: \nNature Prints\nTravel Prints
URL:https://livermorevalleycameraclub.net/event/meeting-monday-may-01-2023/
LOCATION:WCB Building\, 5690 Sonoma Drive\, Pleasanton\, CA\, 94566\, United States
CATEGORIES:Competition,Meeting
END:VEVENT
BEGIN:VEVENT
DTSTART;TZID=America/Los_Angeles:20230506T090000
DTEND;TZID=America/Los_Angeles:20230506T170000
DTSTAMP:20260419T120557
CREATED:20230406T033432Z
LAST-MODIFIED:20230406T230223Z
UID:928-1683363600-1683392400@livermorevalleycameraclub.net
SUMMARY:A day of photography at Filoli
DESCRIPTION:Spring is here\, and what better place to capture the beauty of the season than at the Filoli garden in Woodside. \n“The property is considered one of the finest remaining country estates of the 20th century\, featuring a 54\,000+ square-foot Georgian revival-style mansion\, 16 acres of exquisite English Renaissance gardens\, a 6.8-acre Gentleman’s Orchard\, and hundreds of acres of Natural Lands with 5 distinct ecosystems and a 1-mile Estate Trail. Filoli is dedicated to connecting our rich history with a vibrant future through beauty\, nature and shared stories\, so that one day all people will honor nature\, value unique experiences\, and appreciate beauty in everyday life.” \nThe gardens open at 10 a.m.. For those who want to carpool\, we can meet at the Raley’s parking lot on Sunol Blvd. in Pleasanton at 9 a.m.. The cost is $24/adult or $20/ seniors. There is a group discount if we have over 15 people. Reservations are recommended. \nRSVP to Vicki Stephens by April 30th. \nHope to see you in the gardens! \nFor more information and photos of Filoli\, please click here.
URL:https://livermorevalleycameraclub.net/event/a-day-of-photography-at-filoli/
LOCATION:CA
CATEGORIES:Field Trip
ORGANIZER;CN="Vicki Stephens":MAILTO:vjs.1194@gmail.com
END:VEVENT
BEGIN:VEVENT
DTSTART;TZID=America/Los_Angeles:20230515T190000
DTEND;TZID=America/Los_Angeles:20230515T210000
DTSTAMP:20260419T120557
CREATED:20230112T205907Z
LAST-MODIFIED:20230112T205907Z
UID:900-1684177200-1684184400@livermorevalleycameraclub.net
SUMMARY:Meeting - Monday\, May 15\, 2023
DESCRIPTION:This will be a virtual/physical hybrid meeting conducted on Zoom in addition to a physical meeting with print competitions. \nDigital competitions at this meeting will be: \nPictorial Projected\nMonochrome Projected \nPrint competitions at this meeting will be: \nPictorial Prints\nMonochrome Prints
URL:https://livermorevalleycameraclub.net/event/meeting-monday-may-15-2023/
LOCATION:WCB Building\, 5690 Sonoma Drive\, Pleasanton\, CA\, 94566\, United States
CATEGORIES:Competition,Meeting
END:VEVENT
BEGIN:VEVENT
DTSTART;TZID=America/Los_Angeles:20230605T190000
DTEND;TZID=America/Los_Angeles:20230605T210000
DTSTAMP:20260419T120557
CREATED:20230112T210124Z
LAST-MODIFIED:20230112T210124Z
UID:902-1685991600-1685998800@livermorevalleycameraclub.net
SUMMARY:Meeting - Monday\, June 05\, 2023
DESCRIPTION:This will be a virtual/physical hybrid meeting conducted on Zoom in addition to a physical meeting with print competitions. \nDigital competitions at this meeting will be: \nNature Projected\nTravel Projected \nPrint competitions at this meeting will be: \nCreative Prints\nTravel Prints
URL:https://livermorevalleycameraclub.net/event/meeting-monday-june-05-2023/
LOCATION:WCB Building\, 5690 Sonoma Drive\, Pleasanton\, CA\, 94566\, United States
CATEGORIES:Competition,Meeting
END:VEVENT
BEGIN:VEVENT
DTSTART;TZID=America/Los_Angeles:20230619T190000
DTEND;TZID=America/Los_Angeles:20230619T210000
DTSTAMP:20260419T120557
CREATED:20230112T210312Z
LAST-MODIFIED:20230112T210312Z
UID:904-1687201200-1687208400@livermorevalleycameraclub.net
SUMMARY:Meeting - Monday\, June 19\, 2023
DESCRIPTION:This will be a virtual/physical hybrid meeting conducted on Zoom in addition to a physical meeting with print competitions. \nDigital competitions at this meeting will be: \nPictorial Projected \nPrint competitions at this meeting will be: \nPictorial Prints\nMonochrome Prints
URL:https://livermorevalleycameraclub.net/event/meeting-monday-june-19-2023/
LOCATION:WCB Building\, 5690 Sonoma Drive\, Pleasanton\, CA\, 94566\, United States
CATEGORIES:Competition,Meeting
END:VEVENT
BEGIN:VEVENT
DTSTART;TZID=America/Los_Angeles:20230623T120000
DTEND;TZID=America/Los_Angeles:20230623T220000
DTSTAMP:20260419T120557
CREATED:20230607T215749Z
LAST-MODIFIED:20230607T215749Z
UID:945-1687521600-1687557600@livermorevalleycameraclub.net
SUMMARY:Let's Go to the Alameda County Fair
DESCRIPTION:Let’s meet up at the Alameda County Fair on Friday\, June 23. Spend the day at the fair (it starts at noon) and then meet at 6pm at the photography display area and we’ll have dinner together. Night brings an opportunity to photograph those great carnival images. On Friday there is horse racing\, jousting\, a drone show after dark and all sorts of things to photograph. Admission is $15 and $15 for parking. Senior discount for admission\, you can buy on line in advance. \nSee you at the fair! \nSusan Gerber\, Activities Committee
URL:https://livermorevalleycameraclub.net/event/lets-go-to-the-alameda-county-fair/
LOCATION:CA
CATEGORIES:Field Trip
END:VEVENT
BEGIN:VEVENT
DTSTART;TZID=America/Los_Angeles:20230707T190000
DTEND;TZID=America/Los_Angeles:20230707T210000
DTSTAMP:20260419T120557
CREATED:20230112T210551Z
LAST-MODIFIED:20230112T210551Z
UID:906-1688756400-1688763600@livermorevalleycameraclub.net
SUMMARY:Meeting - Friday\, July 07\, 2023
DESCRIPTION:This will be a virtual/physical hybrid meeting conducted on Zoom in addition to a physical meeting with print competitions. \nDigital competitions at this meeting will be: \nNature Projected\nCreative Projected\nJournalism Projected \nPrint competitions at this meeting will be: \nNature Prints\nSequence Prints
URL:https://livermorevalleycameraclub.net/event/meeting-friday-july-07-2023/
LOCATION:WCB Building\, 5690 Sonoma Drive\, Pleasanton\, CA\, 94566\, United States
CATEGORIES:Competition,Meeting
END:VEVENT
BEGIN:VEVENT
DTSTART;TZID=America/Los_Angeles:20230717T190000
DTEND;TZID=America/Los_Angeles:20230717T210000
DTSTAMP:20260419T120557
CREATED:20230112T210724Z
LAST-MODIFIED:20230112T210724Z
UID:908-1689620400-1689627600@livermorevalleycameraclub.net
SUMMARY:Meeting - Monday\, July 17\, 2023
DESCRIPTION:This will be a virtual/physical hybrid meeting conducted on Zoom in addition to a physical meeting with print competitions. \nDigital competitions at this meeting will be: \nPictorial Projected\nMonochrome Projected \nPrint competitions at this meeting will be: \nPictorial Prints
URL:https://livermorevalleycameraclub.net/event/meeting-monday-july-17-2023/
LOCATION:WCB Building\, 5690 Sonoma Drive\, Pleasanton\, CA\, 94566\, United States
CATEGORIES:Competition,Meeting
END:VEVENT
BEGIN:VEVENT
DTSTART;TZID=America/Los_Angeles:20230802T140000
DTEND;TZID=America/Los_Angeles:20230802T170000
DTSTAMP:20260419T120557
CREATED:20230607T215306Z
LAST-MODIFIED:20230607T215306Z
UID:943-1690984800-1690995600@livermorevalleycameraclub.net
SUMMARY:Santa Cruz Moutains Fieldtrip
DESCRIPTION:My husband’s grandfather built a cabin in the Santa Cruz Mts. in 1914. It sits on the\nBean Creek in Scott’s Valley\, so we affectionately refer to the cabin as “The Bean.” It\nhas been a family treasure ever since. \nPlease join me for a day at the Bean photographing the cabin itself with its wood\nburning stove and original redwood walls and counters\, as well as the surrounding\narea. The cabin is surrounded by towering redwoods and the creek shores are lined\nwith lush ferns. Banana slugs and newts are common\, as well as an array of birds and\nthe occasional turtle or owl. It would be fun to get a group picture here! \nThe creek is quite shallow (a few inches with some deeper pools)\, so bring water\nshoes\, maybe a hiking pole if needed\, as those interested will take a short creek walk.\nHowever\, there is much to photograph if you don’t feel like getting your feet wet. \nI suggest bringing a bag lunch\, but there are numerous eateries nearby\, but when we\nget to the cabin\, most people don’t want to visit civilization to get a burger! \nCarpooling is encouraged\, as parking is limited. It takes just over an hour to get there\,\nbarring traffic. We’ll leave here at 9 a.m. and stay until 2ish at the latest. \nPlease RSVP to Vicki at vjs.1194@gmail.com
URL:https://livermorevalleycameraclub.net/event/santa-cruz-moutains-fieldtrip/
LOCATION:CA
CATEGORIES:Field Trip
ORGANIZER;CN="Vicki Stephens":MAILTO:vjs.1194@gmail.com
END:VEVENT
BEGIN:VEVENT
DTSTART;TZID=America/Los_Angeles:20230807T190000
DTEND;TZID=America/Los_Angeles:20230807T210000
DTSTAMP:20260419T120557
CREATED:20230112T211001Z
LAST-MODIFIED:20230112T211001Z
UID:910-1691434800-1691442000@livermorevalleycameraclub.net
SUMMARY:Meeting - Monday\, August 07\, 2023
DESCRIPTION:This will be a virtual/physical hybrid meeting conducted on Zoom in addition to a physical meeting with print competitions. \nDigital competitions at this meeting will be: \nNature Projected\nTravel Projected \nPrint competitions at this meeting will be: \nCreative Prints\nJournalism Prints
URL:https://livermorevalleycameraclub.net/event/meeting-monday-august-07-2023/
LOCATION:WCB Building\, 5690 Sonoma Drive\, Pleasanton\, CA\, 94566\, United States
CATEGORIES:Competition,Meeting
END:VEVENT
BEGIN:VEVENT
DTSTART;TZID=America/Los_Angeles:20230821T190000
DTEND;TZID=America/Los_Angeles:20230821T210000
DTSTAMP:20260419T120557
CREATED:20230112T211232Z
LAST-MODIFIED:20230112T211232Z
UID:912-1692644400-1692651600@livermorevalleycameraclub.net
SUMMARY:Meeting - Monday\, August 21\, 2023
DESCRIPTION:This will be a virtual/physical hybrid meeting conducted on Zoom in addition to a physical meeting with print competitions. \nDigital competitions at this meeting will be: \nPictorial Projected\nMonochrome Projected \nPrint competitions at this meeting will be: \nPictorial Prints\nMonochrome Prints
URL:https://livermorevalleycameraclub.net/event/meeting-monday-august-21-2023/
LOCATION:WCB Building\, 5690 Sonoma Drive\, Pleasanton\, CA\, 94566\, United States
CATEGORIES:Competition,Meeting
END:VEVENT
BEGIN:VEVENT
DTSTART;TZID=America/Los_Angeles:20230908T190000
DTEND;TZID=America/Los_Angeles:20230908T210000
DTSTAMP:20260419T120557
CREATED:20230112T211431Z
LAST-MODIFIED:20230112T211431Z
UID:914-1694199600-1694206800@livermorevalleycameraclub.net
SUMMARY:Meeting - Friday\, September 08\, 2023
DESCRIPTION:This will be a virtual/physical hybrid meeting conducted on Zoom in addition to a physical meeting with print competitions. \nDigital competitions at this meeting will be: \nCreative Projected\nJournalism Projected \nPrint competitions at this meeting will be: \nNature Prints\nTravel Prints
URL:https://livermorevalleycameraclub.net/event/meeting-friday-september-08-2023/
LOCATION:WCB Building\, 5690 Sonoma Drive\, Pleasanton\, CA\, 94566\, United States
CATEGORIES:Competition,Meeting
END:VEVENT
BEGIN:VEVENT
DTSTART;TZID=America/Los_Angeles:20230918T190000
DTEND;TZID=America/Los_Angeles:20230918T210000
DTSTAMP:20260419T120557
CREATED:20230112T211552Z
LAST-MODIFIED:20230112T211552Z
UID:916-1695063600-1695070800@livermorevalleycameraclub.net
SUMMARY:Meeting - Monday\, September 18\, 2023
DESCRIPTION:This will be a virtual/physical hybrid meeting conducted on Zoom in addition to a physical meeting with print competitions. \nDigital competitions at this meeting will be: \nPictorial Projected\nMonochrome Projected \nPrint competitions at this meeting will be: \nPictorial Prints\nMonochrome Prints
URL:https://livermorevalleycameraclub.net/event/meeting-monday-september-18-2023/
LOCATION:WCB Building\, 5690 Sonoma Drive\, Pleasanton\, CA\, 94566\, United States
CATEGORIES:Competition,Meeting
END:VEVENT
BEGIN:VEVENT
DTSTART;TZID=America/Los_Angeles:20231002T190000
DTEND;TZID=America/Los_Angeles:20231002T210000
DTSTAMP:20260419T120557
CREATED:20230406T225234Z
LAST-MODIFIED:20230406T230148Z
UID:931-1696273200-1696280400@livermorevalleycameraclub.net
SUMMARY:Meeting - Monday\, October 2\, 2023
DESCRIPTION:This will be a virtual/physical hybrid meeting conducted on Zoom in addition to a physical meeting with print competitions. \nDigital competitions at this meeting will be: \nNature Projected\nTravel Projected \nPrint competitions at this meeting will be: \nCreative Prints\nJournalism Prints
URL:https://livermorevalleycameraclub.net/event/meeting-monday-october-2-2023/
LOCATION:WCB Building\, 5690 Sonoma Drive\, Pleasanton\, CA\, 94566\, United States
CATEGORIES:Competition,Meeting
END:VEVENT
BEGIN:VEVENT
DTSTART;TZID=America/Los_Angeles:20231016T190000
DTEND;TZID=America/Los_Angeles:20231016T210000
DTSTAMP:20260419T120557
CREATED:20230406T225645Z
LAST-MODIFIED:20230406T230120Z
UID:933-1697482800-1697490000@livermorevalleycameraclub.net
SUMMARY:Meeting - Monday\, October 16\, 2023
DESCRIPTION:This will be a virtual/physical hybrid meeting conducted on Zoom in addition to a physical meeting with print competitions. \nDigital competitions at this meeting will be: \nPictorial Projected \nPrint competitions at this meeting will be: \nPictorial Prints\nMonochrome Prints
URL:https://livermorevalleycameraclub.net/event/meeting-monday-october-16-2023/
LOCATION:WCB Building\, 5690 Sonoma Drive\, Pleasanton\, CA\, 94566\, United States
CATEGORIES:Competition,Meeting
END:VEVENT
BEGIN:VEVENT
DTSTART;TZID=America/Los_Angeles:20231106T190000
DTEND;TZID=America/Los_Angeles:20231106T210000
DTSTAMP:20260419T120557
CREATED:20230406T230046Z
LAST-MODIFIED:20230406T230130Z
UID:935-1699297200-1699304400@livermorevalleycameraclub.net
SUMMARY:Meeting - Monday\, November 6\, 2023
DESCRIPTION:This will be a virtual/physical hybrid meeting conducted on Zoom in addition to a physical meeting with print competitions. \nDigital competitions at this meeting will be: \nCreative Projected\nTravel Projected\nJournalism Projected \nPrint competitions at this meeting will be: \nNature Prints\nTravel Prints
URL:https://livermorevalleycameraclub.net/event/meeting-monday-november-6-2023/
LOCATION:WCB Building\, 5690 Sonoma Drive\, Pleasanton\, CA\, 94566\, United States
CATEGORIES:Competition,Meeting
END:VEVENT
BEGIN:VEVENT
DTSTART;TZID=America/Los_Angeles:20231120T190000
DTEND;TZID=America/Los_Angeles:20231120T210000
DTSTAMP:20260419T120557
CREATED:20230406T230443Z
LAST-MODIFIED:20230406T230443Z
UID:937-1700506800-1700514000@livermorevalleycameraclub.net
SUMMARY:Meeting - Monday\, November 20\, 2023
DESCRIPTION:This will be a virtual/physical hybrid meeting conducted on Zoom in addition to a physical meeting with print competitions. \nDigital competitions at this meeting will be: \nPictorial Projected \nPrint competitions at this meeting will be: \nPictorial Prints\nMonochrome Prints
URL:https://livermorevalleycameraclub.net/event/meeting-monday-november-20-2023/
LOCATION:WCB Building\, 5690 Sonoma Drive\, Pleasanton\, CA\, 94566\, United States
CATEGORIES:Competition,Meeting
END:VEVENT
BEGIN:VEVENT
DTSTART;TZID=America/Los_Angeles:20240205T070000
DTEND;TZID=America/Los_Angeles:20240205T210000
DTSTAMP:20260419T120557
CREATED:20240206T003812Z
LAST-MODIFIED:20240206T003812Z
UID:949-1707116400-1707166800@livermorevalleycameraclub.net
SUMMARY:Meeting - Monday\, February 5\, 2024
DESCRIPTION:This will be a virtual/physical hybrid meeting conducted on Zoom in addition to a physical meeting with print competitions. \nPrints in Nature and Travel. \nAlternate Print Division\, Doors. \nProjected Images in Nature and Travel.
URL:https://livermorevalleycameraclub.net/event/meeting-monday-february-5-2024/
LOCATION:WCB Building\, 5690 Sonoma Drive\, Pleasanton\, CA\, 94566\, United States
CATEGORIES:Competition,Meeting
END:VEVENT
BEGIN:VEVENT
DTSTART;TZID=America/Los_Angeles:20240223T070000
DTEND;TZID=America/Los_Angeles:20240223T210000
DTSTAMP:20260419T120557
CREATED:20240206T005210Z
LAST-MODIFIED:20240206T010048Z
UID:954-1708671600-1708722000@livermorevalleycameraclub.net
SUMMARY:Meeting - Friday\, February 23\, 2024
DESCRIPTION:This will be a virtual/physical hybrid meeting conducted on Zoom in addition to a physical meeting with print competitions. \nPrints in Pictorial and Monochrome. \nProjected Images in Pictorial.
URL:https://livermorevalleycameraclub.net/event/meeting-friday-february-23-2024/
LOCATION:WCB Building\, 5690 Sonoma Drive\, Pleasanton\, CA\, 94566\, United States
CATEGORIES:Competition,Meeting
END:VEVENT
BEGIN:VEVENT
DTSTART;TZID=America/Los_Angeles:20241021T190000
DTEND;TZID=America/Los_Angeles:20241021T210000
DTSTAMP:20260419T120557
CREATED:20241024T162642Z
LAST-MODIFIED:20241024T162642Z
UID:965-1729537200-1729544400@livermorevalleycameraclub.net
SUMMARY:Meeting - October 21\, 2024
DESCRIPTION:This will be a virtual/physical hybrid meeting conducted on Zoom in addition to a physical meeting with print competitions. \nDigital competitions at this meeting will be:\nPictorial Projected \nPrint competitions at this meeting will be:\nPictorial Prints\nMonochrome Prints
URL:https://livermorevalleycameraclub.net/event/meeting-october-21-2024/
LOCATION:WCB Building\, 5690 Sonoma Drive\, Pleasanton\, CA\, 94566\, United States
END:VEVENT
BEGIN:VEVENT
DTSTART;TZID=America/Los_Angeles:20241104T190000
DTEND;TZID=America/Los_Angeles:20241104T210000
DTSTAMP:20260419T120557
CREATED:20241024T162912Z
LAST-MODIFIED:20241024T163110Z
UID:967-1730746800-1730754000@livermorevalleycameraclub.net
SUMMARY:Meeting - November 4\, 2024
DESCRIPTION:This will be a virtual/physical hybrid meeting conducted on Zoom in addition to a physical meeting with print competitions. \nDigital competitions at this meeting will be: \nCreative Projected\nTravel Projected\nJournalism Projected\nPortfolio Projected \nPrint competitions at this meeting will be: \nNature Prints\nTravel Prints\nAlternative Division 11 Prints
URL:https://livermorevalleycameraclub.net/event/meeting-november-4-2024/
LOCATION:WCB Building\, 5690 Sonoma Drive\, Pleasanton\, CA\, 94566\, United States
CATEGORIES:Competition,Meeting
END:VEVENT
BEGIN:VEVENT
DTSTART;TZID=America/Los_Angeles:20241118T190000
DTEND;TZID=America/Los_Angeles:20241118T210000
DTSTAMP:20260419T120557
CREATED:20241024T163722Z
LAST-MODIFIED:20241024T163722Z
UID:969-1731956400-1731963600@livermorevalleycameraclub.net
SUMMARY:Meeting - November 18\, 2024
DESCRIPTION:This will be the last meeting for 2024 and is treated as the first competition included in 2025 N4C level competitions.\nThis will be a virtual/physical hybrid meeting conducted on Zoom in addition to a physical meeting with print competitions. \nDigital competitions at this meeting will be:\nPictorial Projected \nPrint competitions at this meeting will be:\nPictorial Prints\nMonochrome Prints
URL:https://livermorevalleycameraclub.net/event/meeting-november-18-2024/
LOCATION:WCB Building\, 5690 Sonoma Drive\, Pleasanton\, CA\, 94566\, United States
CATEGORIES:Competition,Meeting
END:VEVENT
BEGIN:VEVENT
DTSTART;TZID=America/Los_Angeles:20250106T184500
DTEND;TZID=America/Los_Angeles:20250106T190000
DTSTAMP:20260419T120557
CREATED:20241225T180530Z
LAST-MODIFIED:20241225T180530Z
UID:989-1736189100-1736190000@livermorevalleycameraclub.net
SUMMARY:Special Program - Pop-Up Photo Fun
DESCRIPTION:Pop-Up Photo Fun \nDetails to be announced. \n 
URL:https://livermorevalleycameraclub.net/event/special-program-pop-up-photo-fun/
LOCATION:CA
CATEGORIES:Special Program
END:VEVENT
BEGIN:VEVENT
DTSTART;TZID=America/Los_Angeles:20250106T190000
DTEND;TZID=America/Los_Angeles:20250106T210000
DTSTAMP:20260419T120557
CREATED:20241224T025413Z
LAST-MODIFIED:20241225T184419Z
UID:976-1736190000-1736197200@livermorevalleycameraclub.net
SUMMARY:Meeting - Monday\, January 6\, 2025
DESCRIPTION:This will be a virtual/physical hybrid meeting conducted on Zoom in addition to a physical meeting with print competitions. \nDigital competitions at this meeting will be: \nCreative Projected\nJournalism Projected\nAlternative Division \nPrint competitions at this meeting will be: \nCreative Prints\nJournalism Prints\nAlternative Division
URL:https://livermorevalleycameraclub.net/event/meeting-january-6-2025/
LOCATION:WCB Building\, 5690 Sonoma Drive\, Pleasanton\, CA\, 94566\, United States
CATEGORIES:Competition,Meeting
END:VEVENT
BEGIN:VEVENT
DTSTART;VALUE=DATE:20250111
DTEND;VALUE=DATE:20250112
DTSTAMP:20260419T120557
CREATED:20241224T201137Z
LAST-MODIFIED:20241224T201137Z
UID:982-1736553600-1736639999@livermorevalleycameraclub.net
SUMMARY:Field Trip - Sandhill Cranes
DESCRIPTION:Field Trip to photograph Sandhill Cranes \nLodi\, CA \nDetails to be announced.
URL:https://livermorevalleycameraclub.net/event/field-trip-sandhill-cranes/
LOCATION:CA
CATEGORIES:Field Trip
END:VEVENT
BEGIN:VEVENT
DTSTART;TZID=America/Los_Angeles:20250124T190000
DTEND;TZID=America/Los_Angeles:20250124T210000
DTSTAMP:20260419T120557
CREATED:20241224T030621Z
LAST-MODIFIED:20241225T191821Z
UID:978-1737745200-1737752400@livermorevalleycameraclub.net
SUMMARY:Meeting - Friday\, January 24\, 2024
DESCRIPTION:This is a Friday Meeting. \nThis will be a virtual/physical hybrid meeting conducted on Zoom in addition to a physical meeting with print competitions. \nDigital competitions at this meeting will be:\nPictorial Projected \nPrint competitions at this meeting will be:\nPictorial Prints\nMonochrome Prints\nAlternative Division \n 
URL:https://livermorevalleycameraclub.net/event/meeting-january-24-2024/
LOCATION:WCB Building\, 5690 Sonoma Drive\, Pleasanton\, CA\, 94566\, United States
CATEGORIES:Competition,Meeting
END:VEVENT
END:VCALENDAR