BEGIN:VCALENDAR
VERSION:2.0
PRODID:-// Livermore Valley Camera Club - ECPv6.15.16//NONSGML v1.0//EN
CALSCALE:GREGORIAN
METHOD:PUBLISH
X-WR-CALNAME: Livermore Valley Camera Club
X-ORIGINAL-URL:https://livermorevalleycameraclub.net
X-WR-CALDESC:Events for  Livermore Valley Camera Club
REFRESH-INTERVAL;VALUE=DURATION:PT1H
X-Robots-Tag:noindex
X-PUBLISHED-TTL:PT1H
BEGIN:VTIMEZONE
TZID:America/Los_Angeles
BEGIN:DAYLIGHT
TZOFFSETFROM:-0800
TZOFFSETTO:-0700
TZNAME:PDT
DTSTART:20250309T100000
END:DAYLIGHT
BEGIN:STANDARD
TZOFFSETFROM:-0700
TZOFFSETTO:-0800
TZNAME:PST
DTSTART:20251102T090000
END:STANDARD
BEGIN:DAYLIGHT
TZOFFSETFROM:-0800
TZOFFSETTO:-0700
TZNAME:PDT
DTSTART:20260308T100000
END:DAYLIGHT
BEGIN:STANDARD
TZOFFSETFROM:-0700
TZOFFSETTO:-0800
TZNAME:PST
DTSTART:20261101T090000
END:STANDARD
BEGIN:DAYLIGHT
TZOFFSETFROM:-0800
TZOFFSETTO:-0700
TZNAME:PDT
DTSTART:20270314T100000
END:DAYLIGHT
BEGIN:STANDARD
TZOFFSETFROM:-0700
TZOFFSETTO:-0800
TZNAME:PST
DTSTART:20271107T090000
END:STANDARD
END:VTIMEZONE
BEGIN:VEVENT
DTSTART;TZID=America/Los_Angeles:20261102T190000
DTEND;TZID=America/Los_Angeles:20261102T210000
DTSTAMP:20260420T042344
CREATED:20251224T055342Z
LAST-MODIFIED:20251224T055342Z
UID:1335-1793646000-1793653200@livermorevalleycameraclub.net
SUMMARY:Meeting - Monday\, November 2\, 2026
DESCRIPTION:This will be a virtual/physical hybrid meeting conducted on Zoom in addition to a physical meeting with print competitions. \nDigital competitions at this meeting will be:Creative ProjectedTravel ProjectedJournalism ProjectedPortfolio \nPrint competitions at this meeting will be: \nNature PrintsTravel PrintsAlternative Division
URL:https://livermorevalleycameraclub.net/event/meeting-monday-november-2-2026/
LOCATION:WCB Building\, 5690 Sonoma Drive\, Pleasanton\, CA\, 94566\, United States
CATEGORIES:Competition
END:VEVENT
BEGIN:VEVENT
DTSTART;TZID=America/Los_Angeles:20261116T190000
DTEND;TZID=America/Los_Angeles:20261116T210000
DTSTAMP:20260420T042344
CREATED:20251224T055343Z
LAST-MODIFIED:20251224T055343Z
UID:1336-1794855600-1794862800@livermorevalleycameraclub.net
SUMMARY:Meeting - Monday\, November 16\, 2026
DESCRIPTION:This will be a virtual/physical hybrid meeting conducted on Zoom in addition to a physical meeting with print competitions. \nDigital competitions at this meeting will be:Pictorial ProjectedMonochrome Projected \nPrint competitions at this meeting will be: \nPictorial PrintsMonochrome Prints
URL:https://livermorevalleycameraclub.net/event/meeting-monday-november-16-2026/
LOCATION:WCB Building\, 5690 Sonoma Drive\, Pleasanton\, CA\, 94566\, United States
CATEGORIES:Competition
END:VEVENT
END:VCALENDAR