BEGIN:VCALENDAR
VERSION:2.0
PRODID:-// Livermore Valley Camera Club - ECPv6.15.16//NONSGML v1.0//EN
CALSCALE:GREGORIAN
METHOD:PUBLISH
X-WR-CALNAME: Livermore Valley Camera Club
X-ORIGINAL-URL:https://livermorevalleycameraclub.net
X-WR-CALDESC:Events for  Livermore Valley Camera Club
REFRESH-INTERVAL;VALUE=DURATION:PT1H
X-Robots-Tag:noindex
X-PUBLISHED-TTL:PT1H
BEGIN:VTIMEZONE
TZID:America/Los_Angeles
BEGIN:DAYLIGHT
TZOFFSETFROM:-0800
TZOFFSETTO:-0700
TZNAME:PDT
DTSTART:20210314T100000
END:DAYLIGHT
BEGIN:STANDARD
TZOFFSETFROM:-0700
TZOFFSETTO:-0800
TZNAME:PST
DTSTART:20211107T090000
END:STANDARD
BEGIN:DAYLIGHT
TZOFFSETFROM:-0800
TZOFFSETTO:-0700
TZNAME:PDT
DTSTART:20220313T100000
END:DAYLIGHT
BEGIN:STANDARD
TZOFFSETFROM:-0700
TZOFFSETTO:-0800
TZNAME:PST
DTSTART:20221106T090000
END:STANDARD
BEGIN:DAYLIGHT
TZOFFSETFROM:-0800
TZOFFSETTO:-0700
TZNAME:PDT
DTSTART:20230312T100000
END:DAYLIGHT
BEGIN:STANDARD
TZOFFSETFROM:-0700
TZOFFSETTO:-0800
TZNAME:PST
DTSTART:20231105T090000
END:STANDARD
END:VTIMEZONE
BEGIN:VEVENT
DTSTART;TZID=America/Los_Angeles:20220801T190000
DTEND;TZID=America/Los_Angeles:20220801T210000
DTSTAMP:20260420T004423
CREATED:20220526T021848Z
LAST-MODIFIED:20220526T050353Z
UID:843-1659380400-1659387600@livermorevalleycameraclub.net
SUMMARY:Meeting - August 1\, 2022
DESCRIPTION:This will be a virtual/physical hybrid meeting conducted on Zoom in addition to a physical meeting with print competitions. \nDigital competitions at this meeting will be: \nNature Projected\nTravel Projected \nPrint competitions at this meeting will be: \nCreative Prints\nJournalism Prints
URL:https://livermorevalleycameraclub.net/event/meeting-august-1-2022/
LOCATION:WCB Building\, 5690 Sonoma Drive\, Pleasanton\, CA\, 94566\, United States
CATEGORIES:Competition,Meeting
END:VEVENT
BEGIN:VEVENT
DTSTART;TZID=America/Los_Angeles:20220815T190000
DTEND;TZID=America/Los_Angeles:20220815T210000
DTSTAMP:20260420T004423
CREATED:20220526T053144Z
LAST-MODIFIED:20220526T053144Z
UID:845-1660590000-1660597200@livermorevalleycameraclub.net
SUMMARY:Meeting - August 15\, 2022
DESCRIPTION:This will be a virtual/physical hybrid meeting conducted on Zoom in addition to a physical meeting with print competitions. \nDigital competitions at this meeting will be: \nPictorial Projected\nMonochrome Projected \nPrint competitions at this meeting will be: \nPictorial Prints\nMonochrome Prints
URL:https://livermorevalleycameraclub.net/event/meeting-august-15-2022/
LOCATION:WCB Building\, 5690 Sonoma Drive\, Pleasanton\, CA\, 94566\, United States
CATEGORIES:Competition,Meeting
END:VEVENT
END:VCALENDAR