BEGIN:VCALENDAR
VERSION:2.0
PRODID:-// Livermore Valley Camera Club - ECPv6.15.16//NONSGML v1.0//EN
CALSCALE:GREGORIAN
METHOD:PUBLISH
X-WR-CALNAME: Livermore Valley Camera Club
X-ORIGINAL-URL:https://livermorevalleycameraclub.net
X-WR-CALDESC:Events for  Livermore Valley Camera Club
REFRESH-INTERVAL;VALUE=DURATION:PT1H
X-Robots-Tag:noindex
X-PUBLISHED-TTL:PT1H
BEGIN:VTIMEZONE
TZID:America/Los_Angeles
BEGIN:DAYLIGHT
TZOFFSETFROM:-0800
TZOFFSETTO:-0700
TZNAME:PDT
DTSTART:20210314T100000
END:DAYLIGHT
BEGIN:STANDARD
TZOFFSETFROM:-0700
TZOFFSETTO:-0800
TZNAME:PST
DTSTART:20211107T090000
END:STANDARD
BEGIN:DAYLIGHT
TZOFFSETFROM:-0800
TZOFFSETTO:-0700
TZNAME:PDT
DTSTART:20220313T100000
END:DAYLIGHT
BEGIN:STANDARD
TZOFFSETFROM:-0700
TZOFFSETTO:-0800
TZNAME:PST
DTSTART:20221106T090000
END:STANDARD
BEGIN:DAYLIGHT
TZOFFSETFROM:-0800
TZOFFSETTO:-0700
TZNAME:PDT
DTSTART:20230312T100000
END:DAYLIGHT
BEGIN:STANDARD
TZOFFSETFROM:-0700
TZOFFSETTO:-0800
TZNAME:PST
DTSTART:20231105T090000
END:STANDARD
END:VTIMEZONE
BEGIN:VEVENT
DTSTART;TZID=America/Los_Angeles:20221003T190000
DTEND;TZID=America/Los_Angeles:20221003T210000
DTSTAMP:20260419T205642
CREATED:20220526T054255Z
LAST-MODIFIED:20220526T054255Z
UID:851-1664823600-1664830800@livermorevalleycameraclub.net
SUMMARY:Meeting - October 3\, 2022
DESCRIPTION:This will be a virtual/physical hybrid meeting conducted on Zoom in addition to a physical meeting with print competitions. \nDigital competitions at this meeting will be: \nNature Projected\nTravel Projected \nPrint competitions at this meeting will be: \nCreative Prints\nJournalism Prints
URL:https://livermorevalleycameraclub.net/event/meeting-october-3-2022/
LOCATION:WCB Building\, 5690 Sonoma Drive\, Pleasanton\, CA\, 94566\, United States
CATEGORIES:Competition,Meeting
END:VEVENT
BEGIN:VEVENT
DTSTART;TZID=America/Los_Angeles:20221017T190000
DTEND;TZID=America/Los_Angeles:20221017T210000
DTSTAMP:20260419T205642
CREATED:20220526T054542Z
LAST-MODIFIED:20220526T054542Z
UID:853-1666033200-1666040400@livermorevalleycameraclub.net
SUMMARY:Meeting - October 17\, 2022
DESCRIPTION:This will be a virtual/physical hybrid meeting conducted on Zoom in addition to a physical meeting with print competitions. \nDigital competitions at this meeting will be: \nPictorial Projected \nPrint competitions at this meeting will be: \nPictorial Prints\nMonochrome Prints
URL:https://livermorevalleycameraclub.net/event/meeting-october-17-2022/
LOCATION:WCB Building\, 5690 Sonoma Drive\, Pleasanton\, CA\, 94566\, United States
CATEGORIES:Competition,Meeting
END:VEVENT
END:VCALENDAR