BEGIN:VCALENDAR
VERSION:2.0
PRODID:-// Livermore Valley Camera Club - ECPv6.15.16//NONSGML v1.0//EN
CALSCALE:GREGORIAN
METHOD:PUBLISH
X-ORIGINAL-URL:https://livermorevalleycameraclub.net
X-WR-CALDESC:Events for  Livermore Valley Camera Club
REFRESH-INTERVAL;VALUE=DURATION:PT1H
X-Robots-Tag:noindex
X-PUBLISHED-TTL:PT1H
BEGIN:VTIMEZONE
TZID:America/Los_Angeles
BEGIN:DAYLIGHT
TZOFFSETFROM:-0800
TZOFFSETTO:-0700
TZNAME:PDT
DTSTART:20210314T100000
END:DAYLIGHT
BEGIN:STANDARD
TZOFFSETFROM:-0700
TZOFFSETTO:-0800
TZNAME:PST
DTSTART:20211107T090000
END:STANDARD
BEGIN:DAYLIGHT
TZOFFSETFROM:-0800
TZOFFSETTO:-0700
TZNAME:PDT
DTSTART:20220313T100000
END:DAYLIGHT
BEGIN:STANDARD
TZOFFSETFROM:-0700
TZOFFSETTO:-0800
TZNAME:PST
DTSTART:20221106T090000
END:STANDARD
BEGIN:DAYLIGHT
TZOFFSETFROM:-0800
TZOFFSETTO:-0700
TZNAME:PDT
DTSTART:20230312T100000
END:DAYLIGHT
BEGIN:STANDARD
TZOFFSETFROM:-0700
TZOFFSETTO:-0800
TZNAME:PST
DTSTART:20231105T090000
END:STANDARD
END:VTIMEZONE
BEGIN:VEVENT
DTSTART;TZID=America/Los_Angeles:20221107T190000
DTEND;TZID=America/Los_Angeles:20221107T210000
DTSTAMP:20260419T191048
CREATED:20220526T055109Z
LAST-MODIFIED:20220526T055109Z
UID:855-1667847600-1667854800@livermorevalleycameraclub.net
SUMMARY:Meeting - November 7\, 2022
DESCRIPTION:This will be a virtual/physical hybrid meeting conducted on Zoom in addition to a physical meeting with print competitions. \nDigital competitions at this meeting will be: \nCreative Projected\nTravel Projected\nJournalism Projected \nPrint competitions at this meeting will be: \nNature Prints\nTravel Prints
URL:https://livermorevalleycameraclub.net/event/meeting-november-7-2022/
LOCATION:WCB Building\, 5690 Sonoma Drive\, Pleasanton\, CA\, 94566\, United States
CATEGORIES:Competition,Meeting
END:VEVENT
BEGIN:VEVENT
DTSTART;TZID=America/Los_Angeles:20221121T190000
DTEND;TZID=America/Los_Angeles:20221121T210000
DTSTAMP:20260419T191048
CREATED:20220526T055336Z
LAST-MODIFIED:20220526T055336Z
UID:857-1669057200-1669064400@livermorevalleycameraclub.net
SUMMARY:Meeting - November 21\, 2022
DESCRIPTION:This will be a virtual/physical hybrid meeting conducted on Zoom in addition to a physical meeting with print competitions. \nDigital competitions at this meeting will be: \nPictorial Projected \nPrint competitions at this meeting will be: \nPictorial Prints\nMonochrome Prints
URL:https://livermorevalleycameraclub.net/event/meeting-november-21-2022/
LOCATION:WCB Building\, 5690 Sonoma Drive\, Pleasanton\, CA\, 94566\, United States
CATEGORIES:Competition,Meeting
END:VEVENT
END:VCALENDAR