BEGIN:VCALENDAR
VERSION:2.0
PRODID:-// Livermore Valley Camera Club - ECPv6.15.16//NONSGML v1.0//EN
CALSCALE:GREGORIAN
METHOD:PUBLISH
X-WR-CALNAME: Livermore Valley Camera Club
X-ORIGINAL-URL:https://livermorevalleycameraclub.net
X-WR-CALDESC:Events for  Livermore Valley Camera Club
REFRESH-INTERVAL;VALUE=DURATION:PT1H
X-Robots-Tag:noindex
X-PUBLISHED-TTL:PT1H
BEGIN:VTIMEZONE
TZID:America/Los_Angeles
BEGIN:DAYLIGHT
TZOFFSETFROM:-0800
TZOFFSETTO:-0700
TZNAME:PDT
DTSTART:20220313T100000
END:DAYLIGHT
BEGIN:STANDARD
TZOFFSETFROM:-0700
TZOFFSETTO:-0800
TZNAME:PST
DTSTART:20221106T090000
END:STANDARD
BEGIN:DAYLIGHT
TZOFFSETFROM:-0800
TZOFFSETTO:-0700
TZNAME:PDT
DTSTART:20230312T100000
END:DAYLIGHT
BEGIN:STANDARD
TZOFFSETFROM:-0700
TZOFFSETTO:-0800
TZNAME:PST
DTSTART:20231105T090000
END:STANDARD
BEGIN:DAYLIGHT
TZOFFSETFROM:-0800
TZOFFSETTO:-0700
TZNAME:PDT
DTSTART:20240310T100000
END:DAYLIGHT
BEGIN:STANDARD
TZOFFSETFROM:-0700
TZOFFSETTO:-0800
TZNAME:PST
DTSTART:20241103T090000
END:STANDARD
END:VTIMEZONE
BEGIN:VEVENT
DTSTART;TZID=America/Los_Angeles:20230206T190000
DTEND;TZID=America/Los_Angeles:20230206T210000
DTSTAMP:20260419T133554
CREATED:20230112T181945Z
LAST-MODIFIED:20230112T204306Z
UID:874-1675710000-1675717200@livermorevalleycameraclub.net
SUMMARY:Meeting - Monday\, February 06\, 2023
DESCRIPTION:This will be a virtual/physical hybrid meeting conducted on Zoom in addition to a physical meeting with print competitions. \nDigital competitions at this meeting will be: \nNature Projected\nTravel Projected \nPrint competitions at this meeting will be: \nNature Prints\nTravel Prints
URL:https://livermorevalleycameraclub.net/event/meeting-february-06-2023/
LOCATION:WCB Building\, 5690 Sonoma Drive\, Pleasanton\, CA\, 94566\, United States
CATEGORIES:Competition,Meeting
END:VEVENT
BEGIN:VEVENT
DTSTART;TZID=America/Los_Angeles:20230224T190000
DTEND;TZID=America/Los_Angeles:20230224T210000
DTSTAMP:20260419T133554
CREATED:20230112T182202Z
LAST-MODIFIED:20230112T182202Z
UID:876-1677265200-1677272400@livermorevalleycameraclub.net
SUMMARY:Meeting - Friday\, February 24\, 2023
DESCRIPTION:This will be a virtual/physical hybrid meeting conducted on Zoom in addition to a physical meeting with print competitions. \nDigital competitions at this meeting will be: \nPictorial Projected \nPrint competitions at this meeting will be: \nPictorial Prints\nMonochrome Prints
URL:https://livermorevalleycameraclub.net/event/meeting-friday-february-24-2023/
LOCATION:WCB Building\, 5690 Sonoma Drive\, Pleasanton\, CA\, 94566\, United States
CATEGORIES:Competition,Meeting
END:VEVENT
END:VCALENDAR